BEGIN:VCALENDAR
VERSION:2.0
PRODID:-//Commack Kiwanis - ECPv6.15.20//NONSGML v1.0//EN
CALSCALE:GREGORIAN
METHOD:PUBLISH
X-WR-CALNAME:Commack Kiwanis
X-ORIGINAL-URL:https://commackkiwanis.org
X-WR-CALDESC:Events for Commack Kiwanis
REFRESH-INTERVAL;VALUE=DURATION:PT1H
X-Robots-Tag:noindex
X-PUBLISHED-TTL:PT1H
BEGIN:VTIMEZONE
TZID:America/New_York
BEGIN:DAYLIGHT
TZOFFSETFROM:-0500
TZOFFSETTO:-0400
TZNAME:EDT
DTSTART:20250309T070000
END:DAYLIGHT
BEGIN:STANDARD
TZOFFSETFROM:-0400
TZOFFSETTO:-0500
TZNAME:EST
DTSTART:20251102T060000
END:STANDARD
BEGIN:DAYLIGHT
TZOFFSETFROM:-0500
TZOFFSETTO:-0400
TZNAME:EDT
DTSTART:20260308T070000
END:DAYLIGHT
BEGIN:STANDARD
TZOFFSETFROM:-0400
TZOFFSETTO:-0500
TZNAME:EST
DTSTART:20261101T060000
END:STANDARD
BEGIN:DAYLIGHT
TZOFFSETFROM:-0500
TZOFFSETTO:-0400
TZNAME:EDT
DTSTART:20270314T070000
END:DAYLIGHT
BEGIN:STANDARD
TZOFFSETFROM:-0400
TZOFFSETTO:-0500
TZNAME:EST
DTSTART:20271107T060000
END:STANDARD
END:VTIMEZONE
BEGIN:VEVENT
DTSTART;TZID=America/New_York:20260416T183000
DTEND;TZID=America/New_York:20260416T200000
DTSTAMP:20260410T114355
CREATED:20251209T181715Z
LAST-MODIFIED:20251209T194121Z
UID:1711-1776364200-1776369600@commackkiwanis.org
SUMMARY:Monthly Meeting
DESCRIPTION:
URL:https://commackkiwanis.org/event/monthly-meeting-29/
LOCATION:NY
CATEGORIES:Monthly Meeting
ORGANIZER;CN="Commack Kiwanis":MAILTO:info@commackkiwanis.org
END:VEVENT
BEGIN:VEVENT
DTSTART;TZID=America/New_York:20260425T073000
DTEND;TZID=America/New_York:20260425T170000
DTSTAMP:20260410T114355
CREATED:20260314T152527Z
LAST-MODIFIED:20260314T165539Z
UID:1792-1777102200-1777136400@commackkiwanis.org
SUMMARY:Butterfly 5K Run
DESCRIPTION:To learn more https://5k.danielacontefoundation.org/ \nTeam Name: Commack Kiwanis
URL:https://commackkiwanis.org/event/butterfly-5k-run/
LOCATION:NY
CATEGORIES:Charity Event
END:VEVENT
BEGIN:VEVENT
DTSTART;TZID=America/New_York:20260506T073000
DTEND;TZID=America/New_York:20260506T090000
DTSTAMP:20260410T114355
CREATED:20251209T175131Z
LAST-MODIFIED:20251209T175131Z
UID:1698-1778052600-1778058000@commackkiwanis.org
SUMMARY:Monthly Meeting
DESCRIPTION:
URL:https://commackkiwanis.org/event/monthly-meeting-24/
LOCATION:Premier Diner\, 690 Commack Rd\, Commack\, NY\, 11725\, United States
CATEGORIES:Monthly Meeting
ORGANIZER;CN="Commack Kiwanis":MAILTO:info@commackkiwanis.org
END:VEVENT
BEGIN:VEVENT
DTSTART;TZID=America/New_York:20260521T183000
DTEND;TZID=America/New_York:20260521T200000
DTSTAMP:20260410T114355
CREATED:20251209T181756Z
LAST-MODIFIED:20251209T194154Z
UID:1710-1779388200-1779393600@commackkiwanis.org
SUMMARY:Monthly Meeting
DESCRIPTION:
URL:https://commackkiwanis.org/event/monthly-meeting-30/
LOCATION:NY
CATEGORIES:Monthly Meeting
ORGANIZER;CN="Commack Kiwanis":MAILTO:info@commackkiwanis.org
END:VEVENT
BEGIN:VEVENT
DTSTART;TZID=America/New_York:20260603T073000
DTEND;TZID=America/New_York:20260603T090000
DTSTAMP:20260410T114355
CREATED:20251209T175207Z
LAST-MODIFIED:20251209T175207Z
UID:1697-1780471800-1780477200@commackkiwanis.org
SUMMARY:Monthly Meeting
DESCRIPTION:
URL:https://commackkiwanis.org/event/monthly-meeting-25/
LOCATION:Premier Diner\, 690 Commack Rd\, Commack\, NY\, 11725\, United States
CATEGORIES:Monthly Meeting
ORGANIZER;CN="Commack Kiwanis":MAILTO:info@commackkiwanis.org
END:VEVENT
BEGIN:VEVENT
DTSTART;TZID=America/New_York:20260604T080000
DTEND;TZID=America/New_York:20260604T170000
DTSTAMP:20260410T114355
CREATED:20260314T152708Z
LAST-MODIFIED:20260314T152737Z
UID:1795-1780560000-1780592400@commackkiwanis.org
SUMMARY:SYJCC Golf Outing | Muttontown
DESCRIPTION:
URL:https://commackkiwanis.org/event/syjcc-golf-outing-muttontown/
LOCATION:NY
CATEGORIES:Charity Event
END:VEVENT
BEGIN:VEVENT
DTSTART;TZID=America/New_York:20260618T183000
DTEND;TZID=America/New_York:20260618T200000
DTSTAMP:20260410T114355
CREATED:20251209T181819Z
LAST-MODIFIED:20251209T194225Z
UID:1709-1781807400-1781812800@commackkiwanis.org
SUMMARY:Monthly Meeting
DESCRIPTION:
URL:https://commackkiwanis.org/event/monthly-meeting-31/
LOCATION:NY
CATEGORIES:Monthly Meeting
ORGANIZER;CN="Commack Kiwanis":MAILTO:info@commackkiwanis.org
END:VEVENT
BEGIN:VEVENT
DTSTART;TZID=America/New_York:20260701T073000
DTEND;TZID=America/New_York:20260701T090000
DTSTAMP:20260410T114355
CREATED:20251209T175304Z
LAST-MODIFIED:20251209T180537Z
UID:1696-1782891000-1782896400@commackkiwanis.org
SUMMARY:Monthly Meeting
DESCRIPTION:
URL:https://commackkiwanis.org/event/monthly-meeting-26/
LOCATION:Premier Diner\, 690 Commack Rd\, Commack\, NY\, 11725\, United States
CATEGORIES:Monthly Meeting
ORGANIZER;CN="Commack Kiwanis":MAILTO:info@commackkiwanis.org
END:VEVENT
BEGIN:VEVENT
DTSTART;TZID=America/New_York:20260716T183000
DTEND;TZID=America/New_York:20260716T200000
DTSTAMP:20260410T114355
CREATED:20251209T183037Z
LAST-MODIFIED:20251209T194724Z
UID:1708-1784226600-1784232000@commackkiwanis.org
SUMMARY:Monthly Meeting
DESCRIPTION:
URL:https://commackkiwanis.org/event/monthly-meeting-32/
LOCATION:Commack Public Library\, 18 Hauppauge Rd\, Commack\, NY\, 11725
CATEGORIES:Monthly Meeting
ORGANIZER;CN="Commack Kiwanis":MAILTO:info@commackkiwanis.org
END:VEVENT
BEGIN:VEVENT
DTSTART;TZID=America/New_York:20261011T080000
DTEND;TZID=America/New_York:20261011T170000
DTSTAMP:20260410T114355
CREATED:20260314T152809Z
LAST-MODIFIED:20260314T152809Z
UID:1797-1791705600-1791738000@commackkiwanis.org
SUMMARY:Commack Day
DESCRIPTION:
URL:https://commackkiwanis.org/event/commack-day/
LOCATION:Suffolk Youth Jewish Community Center – JCC\, 74 Hauppauge Rd\, Commack\, NY\, 11725
CATEGORIES:Charity Event
END:VEVENT
BEGIN:VEVENT
DTSTART;TZID=America/New_York:20261108T080000
DTEND;TZID=America/New_York:20261108T170000
DTSTAMP:20260410T114355
CREATED:20260314T152840Z
LAST-MODIFIED:20260314T152840Z
UID:1799-1794124800-1794157200@commackkiwanis.org
SUMMARY:Commack's Got Talent
DESCRIPTION:
URL:https://commackkiwanis.org/event/commacks-got-talent-2/
LOCATION:Suffolk Youth Jewish Community Center – JCC\, 74 Hauppauge Rd\, Commack\, NY\, 11725
CATEGORIES:Charity Event
END:VEVENT
END:VCALENDAR