BEGIN:VCALENDAR
VERSION:2.0
PRODID:-//Commack Kiwanis - ECPv6.15.20//NONSGML v1.0//EN
CALSCALE:GREGORIAN
METHOD:PUBLISH
X-WR-CALNAME:Commack Kiwanis
X-ORIGINAL-URL:https://commackkiwanis.org
X-WR-CALDESC:Events for Commack Kiwanis
REFRESH-INTERVAL;VALUE=DURATION:PT1H
X-Robots-Tag:noindex
X-PUBLISHED-TTL:PT1H
BEGIN:VTIMEZONE
TZID:America/New_York
BEGIN:DAYLIGHT
TZOFFSETFROM:-0500
TZOFFSETTO:-0400
TZNAME:EDT
DTSTART:20240310T070000
END:DAYLIGHT
BEGIN:STANDARD
TZOFFSETFROM:-0400
TZOFFSETTO:-0500
TZNAME:EST
DTSTART:20241103T060000
END:STANDARD
BEGIN:DAYLIGHT
TZOFFSETFROM:-0500
TZOFFSETTO:-0400
TZNAME:EDT
DTSTART:20250309T070000
END:DAYLIGHT
BEGIN:STANDARD
TZOFFSETFROM:-0400
TZOFFSETTO:-0500
TZNAME:EST
DTSTART:20251102T060000
END:STANDARD
BEGIN:DAYLIGHT
TZOFFSETFROM:-0500
TZOFFSETTO:-0400
TZNAME:EDT
DTSTART:20260308T070000
END:DAYLIGHT
BEGIN:STANDARD
TZOFFSETFROM:-0400
TZOFFSETTO:-0500
TZNAME:EST
DTSTART:20261101T060000
END:STANDARD
END:VTIMEZONE
BEGIN:VEVENT
DTSTART;TZID=America/New_York:20250903T073000
DTEND;TZID=America/New_York:20250903T090000
DTSTAMP:20260421T011208
CREATED:20250425T094956Z
LAST-MODIFIED:20250801T125914Z
UID:1555-1756884600-1756890000@commackkiwanis.org
SUMMARY:Monthly Meeting
DESCRIPTION:
URL:https://commackkiwanis.org/event/monthly-meeting-14/
LOCATION:Premier Diner\, 690 Commack Rd\, Commack\, NY\, 11725\, United States
CATEGORIES:Monthly Meeting
ORGANIZER;CN="Commack Kiwanis":MAILTO:info@commackkiwanis.org
END:VEVENT
BEGIN:VEVENT
DTSTART;TZID=America/New_York:20250918T183000
DTEND;TZID=America/New_York:20250918T200000
DTSTAMP:20260421T011208
CREATED:20250425T095118Z
LAST-MODIFIED:20250801T125927Z
UID:1559-1758220200-1758225600@commackkiwanis.org
SUMMARY:Monthly Meeting
DESCRIPTION:
URL:https://commackkiwanis.org/event/monthly-meeting-16/
CATEGORIES:Monthly Meeting
ORGANIZER;CN="Commack Kiwanis":MAILTO:info@commackkiwanis.org
END:VEVENT
END:VCALENDAR