BEGIN:VCALENDAR
VERSION:2.0
PRODID:-//Commack Kiwanis - ECPv6.15.20//NONSGML v1.0//EN
CALSCALE:GREGORIAN
METHOD:PUBLISH
X-ORIGINAL-URL:https://commackkiwanis.org
X-WR-CALDESC:Events for Commack Kiwanis
REFRESH-INTERVAL;VALUE=DURATION:PT1H
X-Robots-Tag:noindex
X-PUBLISHED-TTL:PT1H
BEGIN:VTIMEZONE
TZID:America/New_York
BEGIN:DAYLIGHT
TZOFFSETFROM:-0500
TZOFFSETTO:-0400
TZNAME:EDT
DTSTART:20250309T070000
END:DAYLIGHT
BEGIN:STANDARD
TZOFFSETFROM:-0400
TZOFFSETTO:-0500
TZNAME:EST
DTSTART:20251102T060000
END:STANDARD
BEGIN:DAYLIGHT
TZOFFSETFROM:-0500
TZOFFSETTO:-0400
TZNAME:EDT
DTSTART:20260308T070000
END:DAYLIGHT
BEGIN:STANDARD
TZOFFSETFROM:-0400
TZOFFSETTO:-0500
TZNAME:EST
DTSTART:20261101T060000
END:STANDARD
BEGIN:DAYLIGHT
TZOFFSETFROM:-0500
TZOFFSETTO:-0400
TZNAME:EDT
DTSTART:20270314T070000
END:DAYLIGHT
BEGIN:STANDARD
TZOFFSETFROM:-0400
TZOFFSETTO:-0500
TZNAME:EST
DTSTART:20271107T060000
END:STANDARD
END:VTIMEZONE
BEGIN:VEVENT
DTSTART;TZID=America/New_York:20260204T073000
DTEND;TZID=America/New_York:20260204T090000
DTSTAMP:20260420T164849
CREATED:20251209T123003Z
LAST-MODIFIED:20251209T174930Z
UID:1694-1770190200-1770195600@commackkiwanis.org
SUMMARY:Monthly Meeting
DESCRIPTION:
URL:https://commackkiwanis.org/event/monthly-meeting-21/
LOCATION:Premier Diner\, 690 Commack Rd\, Commack\, NY\, 11725\, United States
CATEGORIES:Monthly Meeting
ORGANIZER;CN="Commack Kiwanis":MAILTO:info@commackkiwanis.org
END:VEVENT
BEGIN:VEVENT
DTSTART;TZID=America/New_York:20260219T183000
DTEND;TZID=America/New_York:20260219T200000
DTSTAMP:20260420T164849
CREATED:20251209T194625Z
LAST-MODIFIED:20251209T194625Z
UID:1727-1771525800-1771531200@commackkiwanis.org
SUMMARY:Monthly Meeting
DESCRIPTION:
URL:https://commackkiwanis.org/event/monthly-meeting-33/
CATEGORIES:Monthly Meeting
ORGANIZER;CN="Commack Kiwanis":MAILTO:info@commackkiwanis.org
END:VEVENT
END:VCALENDAR