BEGIN:VCALENDAR
VERSION:2.0
PRODID:-//Commack Kiwanis - ECPv6.15.20//NONSGML v1.0//EN
CALSCALE:GREGORIAN
METHOD:PUBLISH
X-WR-CALNAME:Commack Kiwanis
X-ORIGINAL-URL:https://commackkiwanis.org
X-WR-CALDESC:Events for Commack Kiwanis
REFRESH-INTERVAL;VALUE=DURATION:PT1H
X-Robots-Tag:noindex
X-PUBLISHED-TTL:PT1H
BEGIN:VTIMEZONE
TZID:America/New_York
BEGIN:DAYLIGHT
TZOFFSETFROM:-0500
TZOFFSETTO:-0400
TZNAME:EDT
DTSTART:20240310T070000
END:DAYLIGHT
BEGIN:STANDARD
TZOFFSETFROM:-0400
TZOFFSETTO:-0500
TZNAME:EST
DTSTART:20241103T060000
END:STANDARD
BEGIN:DAYLIGHT
TZOFFSETFROM:-0500
TZOFFSETTO:-0400
TZNAME:EDT
DTSTART:20250309T070000
END:DAYLIGHT
BEGIN:STANDARD
TZOFFSETFROM:-0400
TZOFFSETTO:-0500
TZNAME:EST
DTSTART:20251102T060000
END:STANDARD
BEGIN:DAYLIGHT
TZOFFSETFROM:-0500
TZOFFSETTO:-0400
TZNAME:EDT
DTSTART:20260308T070000
END:DAYLIGHT
BEGIN:STANDARD
TZOFFSETFROM:-0400
TZOFFSETTO:-0500
TZNAME:EST
DTSTART:20261101T060000
END:STANDARD
END:VTIMEZONE
BEGIN:VEVENT
DTSTART;TZID=America/New_York:20250402T073000
DTEND;TZID=America/New_York:20250402T090000
DTSTAMP:20260420T152709
CREATED:20250214T191826Z
LAST-MODIFIED:20250214T191826Z
UID:1403-1743579000-1743584400@commackkiwanis.org
SUMMARY:Monthly Meeting
DESCRIPTION:
URL:https://commackkiwanis.org/event/monthly-meeting-7/
LOCATION:Premier Diner\, 690 Commack Rd\, Commack\, NY\, 11725\, United States
CATEGORIES:Monthly Meeting
ORGANIZER;CN="Commack Kiwanis":MAILTO:info@commackkiwanis.org
END:VEVENT
BEGIN:VEVENT
DTSTART;TZID=America/New_York:20250319T180000
DTEND;TZID=America/New_York:20250320T200000
DTSTAMP:20260420T152709
CREATED:20250214T190054Z
LAST-MODIFIED:20250222T123732Z
UID:1384-1742407200-1742500800@commackkiwanis.org
SUMMARY:Monthly Meeting
DESCRIPTION:
URL:https://commackkiwanis.org/event/monthly-meeting/
LOCATION:Woodhull Tavern\, 149-06 Veterans Memorial Hwy\,\, Commack\, NY\, 11725\, United States
CATEGORIES:Monthly Meeting
ORGANIZER;CN="Commack Kiwanis":MAILTO:info@commackkiwanis.org
END:VEVENT
BEGIN:VEVENT
DTSTART;TZID=America/New_York:20250305T073000
DTEND;TZID=America/New_York:20250305T090000
DTSTAMP:20260420T152709
CREATED:20250214T190802Z
LAST-MODIFIED:20250214T191800Z
UID:1394-1741159800-1741165200@commackkiwanis.org
SUMMARY:Monthly Meeting
DESCRIPTION:
URL:https://commackkiwanis.org/event/monthly-meeting-6/
LOCATION:Premier Diner\, 690 Commack Rd\, Commack\, NY\, 11725\, United States
CATEGORIES:Monthly Meeting
ORGANIZER;CN="Commack Kiwanis":MAILTO:info@commackkiwanis.org
END:VEVENT
BEGIN:VEVENT
DTSTART;TZID=America/New_York:20250220T183000
DTEND;TZID=America/New_York:20250220T203000
DTSTAMP:20260420T152709
CREATED:20250214T190303Z
LAST-MODIFIED:20250214T191714Z
UID:1386-1740076200-1740083400@commackkiwanis.org
SUMMARY:Monthly Meeting
DESCRIPTION:
URL:https://commackkiwanis.org/event/monthly-meeting-2/
LOCATION:Commack Public Library\, 18 Hauppauge Rd\, Commack\, NY\, 11725
CATEGORIES:Monthly Meeting
ORGANIZER;CN="Commack Kiwanis":MAILTO:info@commackkiwanis.org
END:VEVENT
END:VCALENDAR